BEGIN:VCALENDAR
VERSION:2.0
PRODID:-//SEL &amp; Associates - ECPv6.13.2.1//NONSGML v1.0//EN
CALSCALE:GREGORIAN
METHOD:PUBLISH
X-ORIGINAL-URL:https://stevenlevyassociates.com
X-WR-CALDESC:Events for SEL &amp; Associates
REFRESH-INTERVAL;VALUE=DURATION:PT1H
X-Robots-Tag:noindex
X-PUBLISHED-TTL:PT1H
BEGIN:VTIMEZONE
TZID:UTC
BEGIN:STANDARD
TZOFFSETFROM:+0000
TZOFFSETTO:+0000
TZNAME:UTC
DTSTART:20210101T000000
END:STANDARD
END:VTIMEZONE
BEGIN:VEVENT
DTSTART;TZID=UTC:20210504T070000
DTEND;TZID=UTC:20210504T090000
DTSTAMP:20260425T182317
CREATED:20210501T154241Z
LAST-MODIFIED:20210501T154241Z
UID:770-1620111600-1620118800@stevenlevyassociates.com
SUMMARY:Heritage Network BNI
DESCRIPTION:
URL:https://stevenlevyassociates.com/event/heritage-network-bni/
LOCATION:Pixel Joe Studios
END:VEVENT
END:VCALENDAR